BEGIN:VCALENDAR
VERSION:2.0
PRODID:-//Smilezone Foundation - ECPv6.13.2.1//NONSGML v1.0//EN
CALSCALE:GREGORIAN
METHOD:PUBLISH
X-ORIGINAL-URL:https://www.smilezone.com
X-WR-CALDESC:Events for Smilezone Foundation
REFRESH-INTERVAL;VALUE=DURATION:PT1H
X-Robots-Tag:noindex
X-PUBLISHED-TTL:PT1H
BEGIN:VTIMEZONE
TZID:UTC
BEGIN:STANDARD
TZOFFSETFROM:+0000
TZOFFSETTO:+0000
TZNAME:UTC
DTSTART:20200101T000000
END:STANDARD
END:VTIMEZONE
BEGIN:VEVENT
DTSTART;TZID=UTC:20200210T190000
DTEND;TZID=UTC:20200210T220000
DTSTAMP:20260425T141348
CREATED:20200204T161407Z
LAST-MODIFIED:20200204T161407Z
UID:32548-1581361200-1581372000@www.smilezone.com
SUMMARY:Hockey Game for The Seanchai Legacy Tour
DESCRIPTION:As part of The Seanchai Legacy Tour there will be a hockey game taking place at Sixteen Mile Sports Complex (3070 Neyagawa Blvd. Oakville). \nSpectators can come watch their family and friends play hockey against NHL all star team consisting of John Scott\, Joe Mullen\, Gary Leeman\, Al Lafrate\, Ron Duguay and Ray Bourque.  – Proceeds go towards Smilezone Foundation! \nTime: 7:00PM \nGeneral Admission – $25 \nDressing Room Pass – $50 \nReception Pass – $150 \nTo purchase tickets please contact: media@seanchaimedia.com or (905)399-2466
URL:https://www.smilezone.com/calendar/hockey-game-for-the-seanchai-legacy-tour/
LOCATION:Sixteen Mile Sports Complex\, 3070 Neyagawa Blvd.\, Oakville\, Ontario\, L6M 4L6\, Canada
ATTACH;FMTTYPE=image/jpeg:https://www.smilezone.com/wp-content/uploads/2020/02/IMG_3937-e1580832641551.jpeg
ORGANIZER;CN="Seanchai Media Group":MAILTO:media@seanchaimedia.com
END:VEVENT
BEGIN:VEVENT
DTSTART;TZID=UTC:20200211T190000
DTEND;TZID=UTC:20200211T220000
DTSTAMP:20260425T141348
CREATED:20200204T163746Z
LAST-MODIFIED:20200204T165157Z
UID:32557-1581447600-1581458400@www.smilezone.com
SUMMARY:Legacy Tour Seanchai Media Group Dinner
DESCRIPTION:As part of the Legacy Tour\, Seanchai Media Group is hosting a Dinner with Ray Bourque and friends at Le Dome (1173 North Service Road E) which includes a delicious hot meal\, live and silent auctions and “Hot Stove”  – John Scott and Al Lafrate will also be at the dinner. \nPrice: $200 – proceeds go towards Smilezone Foundation!  \nTime: 7:00PM \nTo purchase tickets please contact: media@seanchaimedia.com or (905)399-2466  \nSmilezone Foundation has partnered with Seanchai Media Group for 2020 – 2021 
URL:https://www.smilezone.com/calendar/legacy-tour-seanchai-media-group-dinner/
LOCATION:Le Dome\, 1173 North Service Road E\, Oakville\, Ontario\, L6H 1A7\, Canada
ATTACH;FMTTYPE=image/jpeg:https://www.smilezone.com/wp-content/uploads/2020/02/IMG_3937-e1580832641551.jpeg
ORGANIZER;CN="Seanchai Media Group":MAILTO:media@seanchaimedia.com
END:VEVENT
END:VCALENDAR