BEGIN:VCALENDAR
VERSION:2.0
PRODID:-//Smilezone Foundation - ECPv6.13.2.1//NONSGML v1.0//EN
CALSCALE:GREGORIAN
METHOD:PUBLISH
X-WR-CALNAME:Smilezone Foundation
X-ORIGINAL-URL:https://www.smilezone.com
X-WR-CALDESC:Events for Smilezone Foundation
REFRESH-INTERVAL;VALUE=DURATION:PT1H
X-Robots-Tag:noindex
X-PUBLISHED-TTL:PT1H
BEGIN:VTIMEZONE
TZID:UTC
BEGIN:STANDARD
TZOFFSETFROM:+0000
TZOFFSETTO:+0000
TZNAME:UTC
DTSTART:20200101T000000
END:STANDARD
END:VTIMEZONE
BEGIN:VEVENT
DTSTART;TZID=UTC:20200402T103000
DTEND;TZID=UTC:20200402T103000
DTSTAMP:20260426T023002
CREATED:20200228T180145Z
LAST-MODIFIED:20200228T180145Z
UID:39307-1585823400-1585823400@www.smilezone.com
SUMMARY:Six Nations Gane Yohs Community Health Centre Smilezone Grand Opening
DESCRIPTION:We are celebrating the opening of EIGHT new Smilezone Spaces at Gane Yohs Community Health Centre! 
URL:https://www.smilezone.com/calendar/six-nations-gane-yohs-community-health-centre-smilezone-grand-opening/
LOCATION:Gane Yohs Community Health Centre\, 1769 Chiefswood Rd\, Ohsweken\, Ontario\, N0A 1M0\, Canada
ATTACH;FMTTYPE=image/jpeg:https://www.smilezone.com/wp-content/uploads/2020/02/6-nations-01.jpg
END:VEVENT
END:VCALENDAR